BEGIN:VCALENDAR
VERSION:2.0
PRODID:-//Riverhead Ciderhouse - ECPv6.15.20//NONSGML v1.0//EN
CALSCALE:GREGORIAN
METHOD:PUBLISH
X-WR-CALNAME:Riverhead Ciderhouse
X-ORIGINAL-URL:https://riverheadcider.com
X-WR-CALDESC:Events for Riverhead Ciderhouse
REFRESH-INTERVAL;VALUE=DURATION:PT1H
X-Robots-Tag:noindex
X-PUBLISHED-TTL:PT1H
BEGIN:VTIMEZONE
TZID:UTC
BEGIN:STANDARD
TZOFFSETFROM:+0000
TZOFFSETTO:+0000
TZNAME:UTC
DTSTART:20220101T000000
END:STANDARD
END:VTIMEZONE
BEGIN:VEVENT
DTSTART;TZID=UTC:20241010T183000
DTEND;TZID=UTC:20241010T203000
DTSTAMP:20260422T223723
CREATED:20240826T173421Z
LAST-MODIFIED:20240826T173421Z
UID:3341-1728585000-1728592200@riverheadcider.com
SUMMARY:Gilmore Girls Trivia
DESCRIPTION:
URL:https://riverheadcider.com/event/gilmore-girls-trivia
CATEGORIES:Trivia
END:VEVENT
BEGIN:VEVENT
DTSTART;TZID=UTC:20240926T183000
DTEND;TZID=UTC:20240926T203000
DTSTAMP:20260422T223723
CREATED:20240919T164458Z
LAST-MODIFIED:20240919T164458Z
UID:3507-1727375400-1727382600@riverheadcider.com
SUMMARY:Comedy Trivia
DESCRIPTION:
URL:https://riverheadcider.com/event/comedy-trivia
CATEGORIES:Trivia
END:VEVENT
BEGIN:VEVENT
DTSTART;TZID=UTC:20240912T183000
DTEND;TZID=UTC:20240912T203000
DTSTAMP:20260422T223723
CREATED:20240826T173248Z
LAST-MODIFIED:20240826T173248Z
UID:3337-1726165800-1726173000@riverheadcider.com
SUMMARY:Name that Tune Trivia
DESCRIPTION:
URL:https://riverheadcider.com/event/name-that-tune-trivia-2
CATEGORIES:Trivia
END:VEVENT
BEGIN:VEVENT
DTSTART;TZID=UTC:20240829T183000
DTEND;TZID=UTC:20240829T203000
DTSTAMP:20260422T223723
CREATED:20240614T191456Z
LAST-MODIFIED:20240614T191456Z
UID:2823-1724956200-1724963400@riverheadcider.com
SUMMARY:Video Game Trivia
DESCRIPTION:
URL:https://riverheadcider.com/event/video-game-trivia
CATEGORIES:Trivia
END:VEVENT
BEGIN:VEVENT
DTSTART;TZID=UTC:20240815T183000
DTEND;TZID=UTC:20240815T203000
DTSTAMP:20260422T223723
CREATED:20240614T191349Z
LAST-MODIFIED:20240614T191349Z
UID:2819-1723746600-1723753800@riverheadcider.com
SUMMARY:Cartoon Trivia
DESCRIPTION:
URL:https://riverheadcider.com/event/cartoon-trivia
CATEGORIES:Trivia
END:VEVENT
BEGIN:VEVENT
DTSTART;TZID=UTC:20240801T183000
DTEND;TZID=UTC:20240801T203000
DTSTAMP:20260422T223723
CREATED:20240614T191246Z
LAST-MODIFIED:20240614T191246Z
UID:2815-1722537000-1722544200@riverheadcider.com
SUMMARY:Sitcom Trivia
DESCRIPTION:
URL:https://riverheadcider.com/event/sitcom-trivia
CATEGORIES:Trivia
END:VEVENT
BEGIN:VEVENT
DTSTART;TZID=UTC:20240711T183000
DTEND;TZID=UTC:20240711T203000
DTSTAMP:20260422T223723
CREATED:20240614T191053Z
LAST-MODIFIED:20240614T191053Z
UID:2809-1720722600-1720729800@riverheadcider.com
SUMMARY:Dreamworks Trivia
DESCRIPTION:
URL:https://riverheadcider.com/event/dreamworks-trivia
CATEGORIES:Trivia
END:VEVENT
BEGIN:VEVENT
DTSTART;TZID=UTC:20240627T183000
DTEND;TZID=UTC:20240627T203000
DTSTAMP:20260422T223723
CREATED:20240614T191018Z
LAST-MODIFIED:20240614T191018Z
UID:2807-1719513000-1719520200@riverheadcider.com
SUMMARY:General Knowledge Trivia
DESCRIPTION:
URL:https://riverheadcider.com/event/general-knowledge-trivia
CATEGORIES:Trivia
END:VEVENT
BEGIN:VEVENT
DTSTART;TZID=UTC:20240613T183000
DTEND;TZID=UTC:20240613T203000
DTSTAMP:20260422T223723
CREATED:20240527T171708Z
LAST-MODIFIED:20240527T171708Z
UID:2734-1718303400-1718310600@riverheadcider.com
SUMMARY:Game of Thrones Trivia
DESCRIPTION:
URL:https://riverheadcider.com/event/game-of-thrones-trivia
CATEGORIES:Trivia
END:VEVENT
BEGIN:VEVENT
DTSTART;TZID=UTC:20240523T183000
DTEND;TZID=UTC:20240523T203000
DTSTAMP:20260422T223723
CREATED:20240503T165015Z
LAST-MODIFIED:20240503T165015Z
UID:2616-1716489000-1716496200@riverheadcider.com
SUMMARY:Disney Trivia
DESCRIPTION:
URL:https://riverheadcider.com/event/disney-trivia-2
CATEGORIES:Trivia
END:VEVENT
BEGIN:VEVENT
DTSTART;TZID=UTC:20240502T183000
DTEND;TZID=UTC:20240502T203000
DTSTAMP:20260422T223723
CREATED:20240425T171049Z
LAST-MODIFIED:20240425T171049Z
UID:2577-1714674600-1714681800@riverheadcider.com
SUMMARY:Star Wars Trivia
DESCRIPTION:
URL:https://riverheadcider.com/event/star-wars-trivia
CATEGORIES:Trivia
END:VEVENT
BEGIN:VEVENT
DTSTART;TZID=UTC:20240418T183000
DTEND;TZID=UTC:20240418T203000
DTSTAMP:20260422T223723
CREATED:20240324T142734Z
LAST-MODIFIED:20240405T183834Z
UID:2441-1713465000-1713472200@riverheadcider.com
SUMMARY:The Office Trivia
DESCRIPTION:
URL:https://riverheadcider.com/event/trivia
CATEGORIES:Trivia
END:VEVENT
BEGIN:VEVENT
DTSTART;TZID=UTC:20240328T183000
DTEND;TZID=UTC:20240328T203000
DTSTAMP:20260422T223723
CREATED:20240322T163155Z
LAST-MODIFIED:20240322T163155Z
UID:2430-1711650600-1711657800@riverheadcider.com
SUMMARY:Action Movie Trivia
DESCRIPTION:
URL:https://riverheadcider.com/event/action-movie-trivia
CATEGORIES:Trivia
END:VEVENT
BEGIN:VEVENT
DTSTART;TZID=UTC:20240314T183000
DTEND;TZID=UTC:20240314T203000
DTSTAMP:20260422T223723
CREATED:20240307T191900Z
LAST-MODIFIED:20240307T191900Z
UID:2216-1710441000-1710448200@riverheadcider.com
SUMMARY:Taylor Swift Trivia
DESCRIPTION:
URL:https://riverheadcider.com/event/taylor-swift-trivia
CATEGORIES:Trivia
END:VEVENT
BEGIN:VEVENT
DTSTART;TZID=UTC:20240222T183000
DTEND;TZID=UTC:20240222T203000
DTSTAMP:20260422T223723
CREATED:20240217T213742Z
LAST-MODIFIED:20240217T213742Z
UID:2054-1708626600-1708633800@riverheadcider.com
SUMMARY:Superhero Trivia
DESCRIPTION:Dress as your favorite Superhero for bonus points!
URL:https://riverheadcider.com/event/superhero-trivia
CATEGORIES:Trivia
END:VEVENT
BEGIN:VEVENT
DTSTART;TZID=UTC:20240208T183000
DTEND;TZID=UTC:20240208T203000
DTSTAMP:20260422T223723
CREATED:20240203T175935Z
LAST-MODIFIED:20240203T175935Z
UID:1919-1707417000-1707424200@riverheadcider.com
SUMMARY:Sports Trivia
DESCRIPTION:
URL:https://riverheadcider.com/event/sports-trivia
CATEGORIES:Trivia
END:VEVENT
BEGIN:VEVENT
DTSTART;TZID=UTC:20240125T183000
DTEND;TZID=UTC:20240125T203000
DTSTAMP:20260422T223723
CREATED:20240119T185842Z
LAST-MODIFIED:20240119T185842Z
UID:1852-1706207400-1706214600@riverheadcider.com
SUMMARY:Name That Tune Trivia
DESCRIPTION:
URL:https://riverheadcider.com/event/name-that-tune-trivia
CATEGORIES:Trivia
END:VEVENT
BEGIN:VEVENT
DTSTART;TZID=UTC:20231221T183000
DTEND;TZID=UTC:20231221T203000
DTSTAMP:20260422T223723
CREATED:20231126T183200Z
LAST-MODIFIED:20231126T183200Z
UID:1535-1703183400-1703190600@riverheadcider.com
SUMMARY:Year That Was Trivia
DESCRIPTION:
URL:https://riverheadcider.com/event/year-that-was-trivia
CATEGORIES:Trivia
END:VEVENT
BEGIN:VEVENT
DTSTART;TZID=UTC:20231214T183000
DTEND;TZID=UTC:20231214T203000
DTSTAMP:20260422T223723
CREATED:20231126T183108Z
LAST-MODIFIED:20231126T183108Z
UID:1533-1702578600-1702585800@riverheadcider.com
SUMMARY:Holiday Movie Trivia
DESCRIPTION:
URL:https://riverheadcider.com/event/holiday-movie-trivia
CATEGORIES:Trivia
END:VEVENT
BEGIN:VEVENT
DTSTART;TZID=UTC:20231130T183000
DTEND;TZID=UTC:20231130T203000
DTSTAMP:20260422T223723
CREATED:20231126T182246Z
LAST-MODIFIED:20231126T182246Z
UID:1524-1701369000-1701376200@riverheadcider.com
SUMMARY:Harry Potter Trivia
DESCRIPTION:
URL:https://riverheadcider.com/event/harry-potter-trivia
CATEGORIES:Trivia
END:VEVENT
BEGIN:VEVENT
DTSTART;TZID=UTC:20231109T173000
DTEND;TZID=UTC:20231109T193000
DTSTAMP:20260422T223723
CREATED:20231031T120047Z
LAST-MODIFIED:20231031T184812Z
UID:320-1699551000-1699558200@riverheadcider.com
SUMMARY:Disney Trivia
DESCRIPTION:Disney Trivia
URL:https://riverheadcider.com/event/disney-trivia
CATEGORIES:Trivia
ATTACH;FMTTYPE=image/jpeg:https://riverheadcider.com/wp-content/uploads/2023/08/disney-trivia.jpg
END:VEVENT
END:VCALENDAR