BEGIN:VCALENDAR
VERSION:2.0
PRODID:-//Riverhead Ciderhouse - ECPv6.15.20//NONSGML v1.0//EN
CALSCALE:GREGORIAN
METHOD:PUBLISH
X-ORIGINAL-URL:https://riverheadcider.com
X-WR-CALDESC:Events for Riverhead Ciderhouse
REFRESH-INTERVAL;VALUE=DURATION:PT1H
X-Robots-Tag:noindex
X-PUBLISHED-TTL:PT1H
BEGIN:VTIMEZONE
TZID:UTC
BEGIN:STANDARD
TZOFFSETFROM:+0000
TZOFFSETTO:+0000
TZNAME:UTC
DTSTART:20230101T000000
END:STANDARD
END:VTIMEZONE
BEGIN:VEVENT
DTSTART;TZID=UTC:20251002T183000
DTEND;TZID=UTC:20251002T203000
DTSTAMP:20260422T190916
CREATED:20250824T152643Z
LAST-MODIFIED:20250824T152643Z
UID:4907-1759429800-1759437000@riverheadcider.com
SUMMARY:Taylor Swift Trivia
DESCRIPTION:
URL:https://riverheadcider.com/event/taylor-swift-trivia-3
CATEGORIES:Trivia
END:VEVENT
BEGIN:VEVENT
DTSTART;TZID=UTC:20250925T183000
DTEND;TZID=UTC:20250925T203000
DTSTAMP:20260422T190916
CREATED:20250824T152608Z
LAST-MODIFIED:20250824T152608Z
UID:4905-1758825000-1758832200@riverheadcider.com
SUMMARY:Lord of the Rings Trivia
DESCRIPTION:
URL:https://riverheadcider.com/event/lord-of-the-rings-trivia
CATEGORIES:Trivia
END:VEVENT
BEGIN:VEVENT
DTSTART;TZID=UTC:20250911T183000
DTEND;TZID=UTC:20250911T203000
DTSTAMP:20260422T190916
CREATED:20250824T152505Z
LAST-MODIFIED:20250824T152505Z
UID:4901-1757615400-1757622600@riverheadcider.com
SUMMARY:2000's Trivia
DESCRIPTION:
URL:https://riverheadcider.com/event/2000s-trivia
CATEGORIES:Trivia
END:VEVENT
BEGIN:VEVENT
DTSTART;TZID=UTC:20250904T183000
DTEND;TZID=UTC:20250904T203000
DTSTAMP:20260422T190916
CREATED:20250824T152338Z
LAST-MODIFIED:20250824T152338Z
UID:4899-1757010600-1757017800@riverheadcider.com
SUMMARY:Name That Tune Trivia
DESCRIPTION:
URL:https://riverheadcider.com/event/name-that-tune-trivia-4
CATEGORIES:Trivia
END:VEVENT
BEGIN:VEVENT
DTSTART;TZID=UTC:20250731T183000
DTEND;TZID=UTC:20250731T203000
DTSTAMP:20260422T190916
CREATED:20250516T180946Z
LAST-MODIFIED:20250516T180946Z
UID:4517-1753986600-1753993800@riverheadcider.com
SUMMARY:Harry Potter Trivia
DESCRIPTION:
URL:https://riverheadcider.com/event/harry-potter-trivia-2
CATEGORIES:Trivia
END:VEVENT
BEGIN:VEVENT
DTSTART;TZID=UTC:20250724T183000
DTEND;TZID=UTC:20250724T203000
DTSTAMP:20260422T190916
CREATED:20250516T180902Z
LAST-MODIFIED:20250516T180902Z
UID:4515-1753381800-1753389000@riverheadcider.com
SUMMARY:Christmas in July Trivia
DESCRIPTION:
URL:https://riverheadcider.com/event/christmas-in-july-trivia
CATEGORIES:Trivia
END:VEVENT
BEGIN:VEVENT
DTSTART;TZID=UTC:20250717T183000
DTEND;TZID=UTC:20250717T203000
DTSTAMP:20260422T190916
CREATED:20250516T180829Z
LAST-MODIFIED:20250516T180829Z
UID:4513-1752777000-1752784200@riverheadcider.com
SUMMARY:Superhero Trivia
DESCRIPTION:
URL:https://riverheadcider.com/event/superhero-trivia-2
CATEGORIES:Trivia
END:VEVENT
BEGIN:VEVENT
DTSTART;TZID=UTC:20250710T183000
DTEND;TZID=UTC:20250710T203000
DTSTAMP:20260422T190916
CREATED:20250516T180756Z
LAST-MODIFIED:20250516T180756Z
UID:4511-1752172200-1752179400@riverheadcider.com
SUMMARY:90's Trivia
DESCRIPTION:
URL:https://riverheadcider.com/event/90s-trivia
CATEGORIES:Trivia
END:VEVENT
BEGIN:VEVENT
DTSTART;TZID=UTC:20250626T183000
DTEND;TZID=UTC:20250626T203000
DTSTAMP:20260422T190916
CREATED:20250516T180614Z
LAST-MODIFIED:20250516T180614Z
UID:4507-1750962600-1750969800@riverheadcider.com
SUMMARY:Disney Trivia
DESCRIPTION:
URL:https://riverheadcider.com/event/disney-trivia-3
CATEGORIES:Trivia
END:VEVENT
BEGIN:VEVENT
DTSTART;TZID=UTC:20250612T183000
DTEND;TZID=UTC:20250612T203000
DTSTAMP:20260422T190916
CREATED:20250516T180503Z
LAST-MODIFIED:20250516T180503Z
UID:4503-1749753000-1749760200@riverheadcider.com
SUMMARY:Netflix Trivia
DESCRIPTION:
URL:https://riverheadcider.com/event/netflix-trivia
CATEGORIES:Trivia
END:VEVENT
BEGIN:VEVENT
DTSTART;TZID=UTC:20250522T183000
DTEND;TZID=UTC:20250522T203000
DTSTAMP:20260422T190916
CREATED:20250404T182715Z
LAST-MODIFIED:20250419T195548Z
UID:4448-1747938600-1747945800@riverheadcider.com
SUMMARY:Name that Tune Trivia
DESCRIPTION:
URL:https://riverheadcider.com/event/bingo-33
CATEGORIES:Trivia
END:VEVENT
BEGIN:VEVENT
DTSTART;TZID=UTC:20250515T183000
DTEND;TZID=UTC:20250515T203000
DTSTAMP:20260422T190916
CREATED:20250404T182649Z
LAST-MODIFIED:20250404T182649Z
UID:4446-1747333800-1747341000@riverheadcider.com
SUMMARY:Big Bang Theory Trivia
DESCRIPTION:
URL:https://riverheadcider.com/event/big-bang-theory-trivia
CATEGORIES:Trivia
END:VEVENT
BEGIN:VEVENT
DTSTART;TZID=UTC:20250424T183000
DTEND;TZID=UTC:20250424T203000
DTSTAMP:20260422T190916
CREATED:20250404T182134Z
LAST-MODIFIED:20250404T182134Z
UID:4440-1745519400-1745526600@riverheadcider.com
SUMMARY:New York Marine Rescue - Marine Life Trivia
DESCRIPTION:
URL:https://riverheadcider.com/event/new-york-marine-rescue-marine-life-trivia
CATEGORIES:Trivia
END:VEVENT
BEGIN:VEVENT
DTSTART;TZID=UTC:20250327T183000
DTEND;TZID=UTC:20250327T203000
DTSTAMP:20260422T190916
CREATED:20250306T203835Z
LAST-MODIFIED:20250306T203835Z
UID:4167-1743100200-1743107400@riverheadcider.com
SUMMARY:Seinfeld Trivia
DESCRIPTION:
URL:https://riverheadcider.com/event/seinfeld-trivia
CATEGORIES:Trivia
END:VEVENT
BEGIN:VEVENT
DTSTART;TZID=UTC:20250313T183000
DTEND;TZID=UTC:20250313T203000
DTSTAMP:20260422T190916
CREATED:20250306T203736Z
LAST-MODIFIED:20250306T203736Z
UID:4163-1741890600-1741897800@riverheadcider.com
SUMMARY:2020-2025 Trivia
DESCRIPTION:
URL:https://riverheadcider.com/event/2020-2025-trivia
CATEGORIES:Trivia
END:VEVENT
BEGIN:VEVENT
DTSTART;TZID=UTC:20250227T183000
DTEND;TZID=UTC:20250227T203000
DTSTAMP:20260422T190916
CREATED:20250124T183705Z
LAST-MODIFIED:20250124T183705Z
UID:4041-1740681000-1740688200@riverheadcider.com
SUMMARY:Friends Trivia
DESCRIPTION:
URL:https://riverheadcider.com/event/friends-trivia
CATEGORIES:Trivia
END:VEVENT
BEGIN:VEVENT
DTSTART;TZID=UTC:20250213T183000
DTEND;TZID=UTC:20250213T203000
DTSTAMP:20260422T190916
CREATED:20250124T183607Z
LAST-MODIFIED:20250124T183607Z
UID:4037-1739471400-1739478600@riverheadcider.com
SUMMARY:Season of Love Trivia
DESCRIPTION:
URL:https://riverheadcider.com/event/season-of-love-trivia
CATEGORIES:Trivia
END:VEVENT
BEGIN:VEVENT
DTSTART;TZID=UTC:20250130T183000
DTEND;TZID=UTC:20250130T203000
DTSTAMP:20260422T190916
CREATED:20250116T182143Z
LAST-MODIFIED:20250116T182143Z
UID:4017-1738261800-1738269000@riverheadcider.com
SUMMARY:2024 Year in Review Trivia
DESCRIPTION:
URL:https://riverheadcider.com/event/2024-year-in-review-trivia
CATEGORIES:Trivia
END:VEVENT
BEGIN:VEVENT
DTSTART;TZID=UTC:20241219T183000
DTEND;TZID=UTC:20241219T203000
DTSTAMP:20260422T190916
CREATED:20240826T174653Z
LAST-MODIFIED:20240826T174653Z
UID:3375-1734633000-1734640200@riverheadcider.com
SUMMARY:Christmas Trivia
DESCRIPTION:
URL:https://riverheadcider.com/event/christmas-trivia
CATEGORIES:Trivia
END:VEVENT
BEGIN:VEVENT
DTSTART;TZID=UTC:20241212T183000
DTEND;TZID=UTC:20241212T203000
DTSTAMP:20260422T190916
CREATED:20240826T174610Z
LAST-MODIFIED:20240826T174610Z
UID:3373-1734028200-1734035400@riverheadcider.com
SUMMARY:Taylor Swift Trivia
DESCRIPTION:
URL:https://riverheadcider.com/event/taylor-swift-trivia-2
CATEGORIES:Trivia
END:VEVENT
BEGIN:VEVENT
DTSTART;TZID=UTC:20241121T183000
DTEND;TZID=UTC:20241121T203000
DTSTAMP:20260422T190916
CREATED:20240826T173739Z
LAST-MODIFIED:20240826T173739Z
UID:3351-1732213800-1732221000@riverheadcider.com
SUMMARY:Disney Trivia Tournament Finale
DESCRIPTION:
URL:https://riverheadcider.com/event/disney-trivia-tournament-finale
CATEGORIES:Trivia
END:VEVENT
BEGIN:VEVENT
DTSTART;TZID=UTC:20241114T183000
DTEND;TZID=UTC:20241114T203000
DTSTAMP:20260422T190916
CREATED:20240826T173653Z
LAST-MODIFIED:20240826T173653Z
UID:3349-1731609000-1731616200@riverheadcider.com
SUMMARY:Disney Trivia Tournament Round 2
DESCRIPTION:
URL:https://riverheadcider.com/event/disney-trivia-tournament-round-2
CATEGORIES:Trivia
END:VEVENT
BEGIN:VEVENT
DTSTART;TZID=UTC:20241107T183000
DTEND;TZID=UTC:20241107T203000
DTSTAMP:20260422T190916
CREATED:20240826T173623Z
LAST-MODIFIED:20240826T173623Z
UID:3347-1731004200-1731011400@riverheadcider.com
SUMMARY:Disney Trivia Tournament Round 1
DESCRIPTION:
URL:https://riverheadcider.com/event/disney-trivia-tournament-round-1
CATEGORIES:Trivia
END:VEVENT
BEGIN:VEVENT
DTSTART;TZID=UTC:20241024T183000
DTEND;TZID=UTC:20241024T203000
DTSTAMP:20260422T190916
CREATED:20240826T173538Z
LAST-MODIFIED:20240826T173538Z
UID:3345-1729794600-1729801800@riverheadcider.com
SUMMARY:Halloween Trivia
DESCRIPTION:
URL:https://riverheadcider.com/event/halloween-trivia
CATEGORIES:Trivia
END:VEVENT
BEGIN:VEVENT
DTSTART;TZID=UTC:20241010T183000
DTEND;TZID=UTC:20241010T203000
DTSTAMP:20260422T190916
CREATED:20240826T173421Z
LAST-MODIFIED:20240826T173421Z
UID:3341-1728585000-1728592200@riverheadcider.com
SUMMARY:Gilmore Girls Trivia
DESCRIPTION:
URL:https://riverheadcider.com/event/gilmore-girls-trivia
CATEGORIES:Trivia
END:VEVENT
BEGIN:VEVENT
DTSTART;TZID=UTC:20240926T183000
DTEND;TZID=UTC:20240926T203000
DTSTAMP:20260422T190916
CREATED:20240919T164458Z
LAST-MODIFIED:20240919T164458Z
UID:3507-1727375400-1727382600@riverheadcider.com
SUMMARY:Comedy Trivia
DESCRIPTION:
URL:https://riverheadcider.com/event/comedy-trivia
CATEGORIES:Trivia
END:VEVENT
BEGIN:VEVENT
DTSTART;TZID=UTC:20240912T183000
DTEND;TZID=UTC:20240912T203000
DTSTAMP:20260422T190916
CREATED:20240826T173248Z
LAST-MODIFIED:20240826T173248Z
UID:3337-1726165800-1726173000@riverheadcider.com
SUMMARY:Name that Tune Trivia
DESCRIPTION:
URL:https://riverheadcider.com/event/name-that-tune-trivia-2
CATEGORIES:Trivia
END:VEVENT
BEGIN:VEVENT
DTSTART;TZID=UTC:20240829T183000
DTEND;TZID=UTC:20240829T203000
DTSTAMP:20260422T190916
CREATED:20240614T191456Z
LAST-MODIFIED:20240614T191456Z
UID:2823-1724956200-1724963400@riverheadcider.com
SUMMARY:Video Game Trivia
DESCRIPTION:
URL:https://riverheadcider.com/event/video-game-trivia
CATEGORIES:Trivia
END:VEVENT
BEGIN:VEVENT
DTSTART;TZID=UTC:20240815T183000
DTEND;TZID=UTC:20240815T203000
DTSTAMP:20260422T190916
CREATED:20240614T191349Z
LAST-MODIFIED:20240614T191349Z
UID:2819-1723746600-1723753800@riverheadcider.com
SUMMARY:Cartoon Trivia
DESCRIPTION:
URL:https://riverheadcider.com/event/cartoon-trivia
CATEGORIES:Trivia
END:VEVENT
BEGIN:VEVENT
DTSTART;TZID=UTC:20240801T183000
DTEND;TZID=UTC:20240801T203000
DTSTAMP:20260422T190916
CREATED:20240614T191246Z
LAST-MODIFIED:20240614T191246Z
UID:2815-1722537000-1722544200@riverheadcider.com
SUMMARY:Sitcom Trivia
DESCRIPTION:
URL:https://riverheadcider.com/event/sitcom-trivia
CATEGORIES:Trivia
END:VEVENT
END:VCALENDAR