BEGIN:VCALENDAR
VERSION:2.0
PRODID:-//Riverhead Ciderhouse - ECPv6.15.20//NONSGML v1.0//EN
CALSCALE:GREGORIAN
METHOD:PUBLISH
X-WR-CALNAME:Riverhead Ciderhouse
X-ORIGINAL-URL:https://riverheadcider.com
X-WR-CALDESC:Events for Riverhead Ciderhouse
REFRESH-INTERVAL;VALUE=DURATION:PT1H
X-Robots-Tag:noindex
X-PUBLISHED-TTL:PT1H
BEGIN:VTIMEZONE
TZID:UTC
BEGIN:STANDARD
TZOFFSETFROM:+0000
TZOFFSETTO:+0000
TZNAME:UTC
DTSTART:20220101T000000
END:STANDARD
END:VTIMEZONE
BEGIN:VEVENT
DTSTART;TZID=UTC:20260322T110000
DTEND;TZID=UTC:20260322T140000
DTSTAMP:20260424T084419
CREATED:20260208T160033Z
LAST-MODIFIED:20260208T160033Z
UID:5644-1774177200-1774188000@riverheadcider.com
SUMMARY:Photos with the Easter Bunny
DESCRIPTION:Join us for a family fun day as the Easter Bunny visits for some photos!
URL:https://riverheadcider.com/event/photos-with-the-easter-bunny
CATEGORIES:Holiday Fun
END:VEVENT
BEGIN:VEVENT
DTSTART;TZID=UTC:20251219T183000
DTEND;TZID=UTC:20251219T203000
DTSTAMP:20260424T084419
CREATED:20251107T184113Z
LAST-MODIFIED:20251107T184113Z
UID:5223-1766169000-1766176200@riverheadcider.com
SUMMARY:Get Arty | Paint & Sip Event
DESCRIPTION:
URL:https://riverheadcider.com/event/get-arty-paint-sip-event-2
CATEGORIES:Holiday Fun
END:VEVENT
BEGIN:VEVENT
DTSTART;TZID=UTC:20241213T180000
DTEND;TZID=UTC:20241213T210000
DTSTAMP:20260424T084419
CREATED:20241124T172301Z
LAST-MODIFIED:20241124T172301Z
UID:3805-1734112800-1734123600@riverheadcider.com
SUMMARY:Sip & Build Gingerbread House
DESCRIPTION:Join us for our first Gingerbread House Building Class hosted by Buttermilk Bakeshop! Tickets can be purchases with the link below!
URL:https://riverheadcider.com/event/sip-build-gingerbread-house
CATEGORIES:Holiday Fun
END:VEVENT
BEGIN:VEVENT
DTSTART;TZID=UTC:20231217T110000
DTEND;TZID=UTC:20231217T130000
DTSTAMP:20260424T084419
CREATED:20231126T183030Z
LAST-MODIFIED:20231126T183030Z
UID:1531-1702810800-1702818000@riverheadcider.com
SUMMARY:Photos with Santa
DESCRIPTION:Meet Santa Claus and grab a photo with him!
URL:https://riverheadcider.com/event/photos-with-santa-3
CATEGORIES:Holiday Fun
END:VEVENT
BEGIN:VEVENT
DTSTART;TZID=UTC:20231210T110000
DTEND;TZID=UTC:20231210T130000
DTSTAMP:20260424T084419
CREATED:20231126T182954Z
LAST-MODIFIED:20231126T182954Z
UID:1529-1702206000-1702213200@riverheadcider.com
SUMMARY:Photos with Santa
DESCRIPTION:Meet Santa Claus and grab a photo with him!
URL:https://riverheadcider.com/event/photos-with-santa-2
CATEGORIES:Holiday Fun
END:VEVENT
BEGIN:VEVENT
DTSTART;TZID=UTC:20231203T110000
DTEND;TZID=UTC:20231203T130000
DTSTAMP:20260424T084419
CREATED:20231126T182842Z
LAST-MODIFIED:20231126T182842Z
UID:1527-1701601200-1701608400@riverheadcider.com
SUMMARY:Photos with Santa
DESCRIPTION:Meet Santa Claus and grab a photo with him!
URL:https://riverheadcider.com/event/photos-with-santa
CATEGORIES:Holiday Fun
END:VEVENT
END:VCALENDAR