BEGIN:VCALENDAR
VERSION:2.0
PRODID:-//Riverhead Ciderhouse - ECPv6.15.20//NONSGML v1.0//EN
CALSCALE:GREGORIAN
METHOD:PUBLISH
X-WR-CALNAME:Riverhead Ciderhouse
X-ORIGINAL-URL:https://riverheadcider.com
X-WR-CALDESC:Events for Riverhead Ciderhouse
REFRESH-INTERVAL;VALUE=DURATION:PT1H
X-Robots-Tag:noindex
X-PUBLISHED-TTL:PT1H
BEGIN:VTIMEZONE
TZID:UTC
BEGIN:STANDARD
TZOFFSETFROM:+0000
TZOFFSETTO:+0000
TZNAME:UTC
DTSTART:20230101T000000
END:STANDARD
END:VTIMEZONE
BEGIN:VEVENT
DTSTART;TZID=UTC:20260213T193000
DTEND;TZID=UTC:20260213T210000
DTSTAMP:20260425T114829
CREATED:20251218T184451Z
LAST-MODIFIED:20251218T184451Z
UID:5319-1771011000-1771016400@riverheadcider.com
SUMMARY:Aragonas Comedy Show
DESCRIPTION:
URL:https://riverheadcider.com/event/aragonas-comedy-show
CATEGORIES:Comedy Show
END:VEVENT
BEGIN:VEVENT
DTSTART;TZID=UTC:20251121T193000
DTEND;TZID=UTC:20251121T210000
DTSTAMP:20260425T114829
CREATED:20251103T160546Z
LAST-MODIFIED:20251103T160608Z
UID:5204-1763753400-1763758800@riverheadcider.com
SUMMARY:Comedy Show
DESCRIPTION:
URL:https://riverheadcider.com/event/comedy-show-2
CATEGORIES:Comedy Show
END:VEVENT
BEGIN:VEVENT
DTSTART;TZID=UTC:20250411T190000
DTEND;TZID=UTC:20250411T210000
DTSTAMP:20260425T114829
CREATED:20250308T173655Z
LAST-MODIFIED:20250308T182956Z
UID:4180-1744398000-1744405200@riverheadcider.com
SUMMARY:Comedy Show
DESCRIPTION:
URL:https://riverheadcider.com/event/comedy-show
CATEGORIES:Comedy Show
END:VEVENT
BEGIN:VEVENT
DTSTART;TZID=UTC:20241115T070000
DTEND;TZID=UTC:20241115T203000
DTSTAMP:20260425T114829
CREATED:20240920T194558Z
LAST-MODIFIED:20240923T225522Z
UID:3536-1731654000-1731702600@riverheadcider.com
SUMMARY:Aragona's Comedy Stand-up Comedy Show
DESCRIPTION:
URL:https://riverheadcider.com/event/aragonas-comedy-stand-up-comedy-show
CATEGORIES:Comedy Show
END:VEVENT
END:VCALENDAR