BEGIN:VCALENDAR
VERSION:2.0
PRODID:-//Riverhead Ciderhouse - ECPv6.15.20//NONSGML v1.0//EN
CALSCALE:GREGORIAN
METHOD:PUBLISH
X-ORIGINAL-URL:https://riverheadcider.com
X-WR-CALDESC:Events for Riverhead Ciderhouse
REFRESH-INTERVAL;VALUE=DURATION:PT1H
X-Robots-Tag:noindex
X-PUBLISHED-TTL:PT1H
BEGIN:VTIMEZONE
TZID:UTC
BEGIN:STANDARD
TZOFFSETFROM:+0000
TZOFFSETTO:+0000
TZNAME:UTC
DTSTART:20250101T000000
END:STANDARD
END:VTIMEZONE
BEGIN:VEVENT
DTSTART;TZID=UTC:20260305T183000
DTEND;TZID=UTC:20260305T203000
DTSTAMP:20260422T214706
CREATED:20260201T161154Z
LAST-MODIFIED:20260201T161154Z
UID:5595-1772735400-1772742600@riverheadcider.com
SUMMARY:Bingo
DESCRIPTION:
URL:https://riverheadcider.com/event/bingo-44
CATEGORIES:Bingo
END:VEVENT
BEGIN:VEVENT
DTSTART;TZID=UTC:20260312T183000
DTEND;TZID=UTC:20260312T203000
DTSTAMP:20260422T214706
CREATED:20260201T161231Z
LAST-MODIFIED:20260201T161231Z
UID:5597-1773340200-1773347400@riverheadcider.com
SUMMARY:Music Bingo
DESCRIPTION:
URL:https://riverheadcider.com/event/music-bingo-23
CATEGORIES:Bingo,Music
END:VEVENT
BEGIN:VEVENT
DTSTART;TZID=UTC:20260402T183000
DTEND;TZID=UTC:20260402T203000
DTSTAMP:20260422T214706
CREATED:20260201T161427Z
LAST-MODIFIED:20260320T230940Z
UID:5603-1775154600-1775161800@riverheadcider.com
SUMMARY:Music Bingo
DESCRIPTION:
URL:https://riverheadcider.com/event/april-fools-trivia
CATEGORIES:Bingo,Music
END:VEVENT
BEGIN:VEVENT
DTSTART;TZID=UTC:20260409T183000
DTEND;TZID=UTC:20260409T203000
DTSTAMP:20260422T214706
CREATED:20260201T161459Z
LAST-MODIFIED:20260201T161459Z
UID:5605-1775759400-1775766600@riverheadcider.com
SUMMARY:Bingo
DESCRIPTION:
URL:https://riverheadcider.com/event/bingo-45
CATEGORIES:Bingo
END:VEVENT
BEGIN:VEVENT
DTSTART;TZID=UTC:20260423T183000
DTEND;TZID=UTC:20260423T203000
DTSTAMP:20260422T214706
CREATED:20260201T161615Z
LAST-MODIFIED:20260201T161615Z
UID:5609-1776969000-1776976200@riverheadcider.com
SUMMARY:Music Bingo
DESCRIPTION:
URL:https://riverheadcider.com/event/music-bingo-24
CATEGORIES:Bingo,Music
END:VEVENT
END:VCALENDAR